BEGIN:VCALENDAR
VERSION:2.0
PRODID:-//wp-events-plugin.com//7.2.3.1//EN
TZID:Europe/Berlin
X-WR-TIMEZONE:Europe/Berlin
BEGIN:VEVENT
UID:351@egvmg.de
DTSTART;TZID=Europe/Berlin:20230511T163000
DTEND;TZID=Europe/Berlin:20230511T180000
DTSTAMP:20230428T121107Z
URL:https://egvmg.de/events/patientenseminar-moderner-gelenkersatz-an-der-
 huefte/
SUMMARY:Patientenseminar: Moderner Gelenkersatz an der Hüfte
DESCRIPTION:Das Hüftgelenk ist das größte Kugelgelenk des menschlichen K
 örpers. Durch seine besondere Konstruktion sowie die Funktion der umgeben
 den Weichteile (Gelenkkapsel\, Bänder und Muskulatur) werden die aufrecht
 e Körperhaltung und die freie Bewegung des Beines ermöglicht. Die knöch
 ernen Hauptanteile werden durch die Gelenkpfanne und den Hüftkopf gebilde
 t und sind wie alle anderen Gelenke auch von einer Knorpelschicht bedeckt.
 \n\nIm Laufe des Lebens kann es zu einem natürlichen Verschleiß des Gele
 nkknorpels kommen\, der so ausgeprägt ist\, dass es zu starken Schmerzen 
 bei der Belastung und einer weitgehenden Aufhebung der Gelenkbeweglichkeit
  kommt. Dieses wird als Hüftgelenksarthrose oder Coxarthrose bezeichnet. 
 Auch Unfälle und deren Folgen\, zum Beispiel ein Schenkelhalsbruch\, aber
  auch angeborene Fehlbildungen oder andere Erkrankungen können Ursachen v
 on Schmerzen sein.\n\nUm über Krankheitsbilder und Therapien zu informier
 en\, lädt die Klinik für Unfallchirurgie und Orthopädie zu einem Patien
 tenseminar am Dienstag\, den 11. Mai 2023\, um 16.30 Uhr\, in der Akademie
  am Steeler Berg\, 2. Etage\, Hellweg 94 ein.\n\nDer Vortrag von Referent 
 Christian Hoff\, Abteilungsarzt des zertifizierten EndoProthetikZentrums\,
  lautet: „Neue Hüfte und alles ist gut!? Was Sie über moderne Endoprot
 hetik wissen sollten“. Moderiert wird das Patientenseminar von Chefarzt 
 Prof. Dr. med. Sven Lendemans. Im Anschluss an den Vortrag wird es Zeit f
 ür die Fragen der Besucher geben.\n\nDer Eintritt zu der Veranstaltung is
 t frei\, um Anmeldung wird gebeten: www.krupp-krankenhaus.de/huefte\n\nNä
 here Informationen erteilt gerne das Sekretariat\, Julia Müller\, unter T
 elefon 0201 805-1842.\n\nKontakt\nKlinik Orthopädie und Unfallchirurgie\n
 Alfried Krupp Krankenhaus Steele\nHellweg 100\n45276 Essen\nTelefon 0201 8
 05-1842\nunfallchirurgie@krupp-krankenhaus.de
ATTACH;FMTTYPE=image/jpeg:https://egvmg.de/wp-content/uploads/2020/05/AKK_
 Logo_Wortm_22pt_kompakt25e225802593grau.jpg
CATEGORIES:Veranstaltungen
END:VEVENT
BEGIN:VTIMEZONE
TZID:Europe/Berlin
X-LIC-LOCATION:Europe/Berlin
BEGIN:DAYLIGHT
DTSTART:20230326T030000
TZOFFSETFROM:+0100
TZOFFSETTO:+0200
TZNAME:CEST
END:DAYLIGHT
END:VTIMEZONE
END:VCALENDAR